Workbook

Sheet 事前調書
C2: 障害福祉サービス等に係る運営指導事前調書（障害児通所支援事業用）
C5: 事業所名
C8: 実施場所
N9: ※ 複数の事業所がある場合、まとめて１箇所でやりますので、実際に検査を実施する場所の住所を記載してください。
C11: 運営指導予定日
C14: 実施サービス
C17: 担当者名 | AC17: 連絡先
C19: ※この調書は、事業所単位（事業所番号ごと）で作成すること
C20: ※オレンジ背景セルに必要事項を入力すること。
C24: 事前調書の作成について
C25: 児童発達支援、放課後等デイサービスの事業を実施している場合はこのシート（事前調書）のほか、「勤務実績等確認表」も作成してください。 なお、作成する順番に関しては、データの都合上、「事前調書」→「勤務実績等確認表」の順に作成をお願いします。
C32: １ 開設者・事業所の概要
AL33: 令和〇年〇月〇日現在
D34: 法人概要 | E34: 法人等の種別 | W34: 法人等の名称
E35: 法人本部の所在地
E36: 代表者名 | W36: 代表者の住所
E37: 法令順守責任者名 | W37: 業務管理体制届出※ | AE37: 未 ・ 済 | AK37: （○○年×月△日付）
D38: 事業所概要 | E38: 事業所名称
E39: 事業所住所 | M39: 〒 | X39: 住所：
E40: 事業所番号
E41: 指定年月日 | Q41: 年 | T41: 月 | W41: 日
E42: サービス名
E43: 利用定員数 | M43: 定員 | Q43: 名
E44: 管理者名
E45: 児童発達支援管理責任者
E46: 主たる対象者 | R46: ※特定有りの場合は障害種別を右欄に記載
E47: 協力医療機関
E48: 法人で他に実施している 指定障害福祉サービス
D50: ※ | E50: 業務管理体制届出欄には、業務管理体制の届出書を指定権者（国、県、中核市）に提出しているかを記載してください（全事業者届出必須です）。
C55: ２ 利用者の状況
C56: (1)月別利用者数
G57: 特定旧法 受給者等 | K57: 不明 | O57: 区分なし | S57: 区分１ | W57: 区分２ | AA57: 区分３ | AE57: 区分４ | AI57: 区分５ | AM57: 区分６ | AQ57: 計
D59: 前年度 | E59: ４月 | J59: 名 | N59: 名 | R59: 名 | V59: 名 | Z59: 名 | AD59: 名 | AH59: 名 | AL59: 名 | AP59: 名 | AR59: =SUM(H59,L59,P59,T59,X59,AB59,AF59,AJ59,AN59) -> 0 | AT59: 名
E60: ５月 | J60: 名 | N60: 名 | R60: 名 | V60: 名 | Z60: 名 | AD60: 名 | AH60: 名 | AL60: 名 | AP60: 名 | AR60: =SUM(H60,L60,P60,T60,X60,AB60,AF60,AJ60,AN60) -> 0 | AT60: 名
E61: ６月 | J61: 名 | N61: 名 | R61: 名 | V61: 名 | Z61: 名 | AD61: 名 | AH61: 名 | AL61: 名 | AP61: 名 | AR61: =SUM(H61,L61,P61,T61,X61,AB61,AF61,AJ61,AN61) -> 0 | AT61: 名
E62: ７月 | J62: 名 | N62: 名 | R62: 名 | V62: 名 | Z62: 名 | AD62: 名 | AH62: 名 | AL62: 名 | AP62: 名 | AR62: =SUM(H62,L62,P62,T62,X62,AB62,AF62,AJ62,AN62) -> 0 | AT62: 名
E63: ８月 | J63: 名 | N63: 名 | R63: 名 | V63: 名 | Z63: 名 | AD63: 名 | AH63: 名 | AL63: 名 | AP63: 名 | AR63: =SUM(H63,L63,P63,T63,X63,AB63,AF63,AJ63,AN63) -> 0 | AT63: 名
E64: ９月 | J64: 名 | N64: 名 | R64: 名 | V64: 名 | Z64: 名 | AD64: 名 | AH64: 名 | AL64: 名 | AP64: 名 | AR64: =SUM(H64,L64,P64,T64,X64,AB64,AF64,AJ64,AN64) -> 0 | AT64: 名
E65: １０月 | J65: 名 | N65: 名 | R65: 名 | V65: 名 | Z65: 名 | AD65: 名 | AH65: 名 | AL65: 名 | AP65: 名 | AR65: =SUM(H65,L65,P65,T65,X65,AB65,AF65,AJ65,AN65) -> 0 | AT65: 名
E66: １１月 | J66: 名 | N66: 名 | R66: 名 | V66: 名 | Z66: 名 | AD66: 名 | AH66: 名 | AL66: 名 | AP66: 名 | AR66: =SUM(H66,L66,P66,T66,X66,AB66,AF66,AJ66,AN66) -> 0 | AT66: 名
...

Sheet 勤務実績等確認表
A1: 勤務実績等確認表（運営指導実施前月までの直近3カ月分） ※児童発達支援、放課後等デイサービス用
A2: ="事業所名 ： "&事前調書!N5 -> 事業所名 ：
A4: 〇 | B4: 運営指導実施年月日 | H4: =C4-14 -> -14
A6: 〇 | B6: １週間に当該事業所における常勤職員が勤務すべき時間 | I6: 時間
A8: 〇 | B8: 利用定員 | I8: 名
A11: 〇サービス種別ごとの利用児童数 | G11: =IF(H11<>"","↓","") | H11: =H12
B12: 利用児童数 | C12: サービス種別 | E12: サービス提供時間 | G12: =IFERROR(DATE(YEAR($H$4),MONTH($H$4)-3,1),"") | H12: =IFERROR(G12+1,"") | I12: =IFERROR(H12+1,"") | J12: =IFERROR(I12+1,"") | K12: =IFERROR(J12+1,"") | L12: =IFERROR(K12+1,"") | M12: =IFERROR(L12+1,"") | N12: =IFERROR(M12+1,"") | O12: =IFERROR(N12+1,"") | ... CT12: =IFERROR(CS12+1,"")
E13: 開始 | F13: 終了 | G13: =IFERROR(TEXT(G12,"aaa"),"") | H13: =IFERROR(TEXT(H12,"aaa"),"") | I13: =IFERROR(TEXT(I12,"aaa"),"") | J13: =IFERROR(TEXT(J12,"aaa"),"") | K13: =IFERROR(TEXT(K12,"aaa"),"") | L13: =IFERROR(TEXT(L12,"aaa"),"") | M13: =IFERROR(TEXT(M12,"aaa"),"") | N13: =IFERROR(TEXT(N12,"aaa"),"") | ... CT13: =IFERROR(TEXT(CT12,"aaa"),"")
C17: 合 計 | G17: =SUM(G14:G16) -> 0 | H17: =SUM(H14:H16) -> 0 | I17: =SUM(I14:I16) -> 0 | J17: =SUM(J14:J16) -> 0 | K17: =SUM(K14:K16) -> 0 | L17: =SUM(L14:L16) -> 0 | M17: =SUM(M14:M16) -> 0 | N17: =SUM(N14:N16) -> 0 | ... CT17: =SUM(CT14:CT16) -> 0
A19: 〇従業者の勤務実績
B20: 職種 | D20: 基準 加配 | E20: 氏名 | F20: 常 勤 | G20: =IFERROR(DATE(YEAR($H$4),MONTH($H$4)-3,1),"") | H20: =IFERROR(G20+1,"") | I20: =IFERROR(H20+1,"") | J20: =IFERROR(I20+1,"") | K20: =IFERROR(J20+1,"") | L20: =IFERROR(K20+1,"") | M20: =IFERROR(L20+1,"") | N20: =IFERROR(M20+1,"") | O20: =IFERROR(N20+1,"") | ... CT20: =IFERROR(CS20+1,"")
B21: 職種1 | C21: 職種2 | F21: 非常勤 | G21: =TEXT(G20,"aaa") | H21: =TEXT(H20,"aaa") | I21: =TEXT(I20,"aaa") | J21: =TEXT(J20,"aaa") | K21: =TEXT(K20,"aaa") | L21: =TEXT(L20,"aaa") | M21: =TEXT(M20,"aaa") | N21: =TEXT(N20,"aaa") | ... CT21: =TEXT(CT20,"aaa")
A22: 1 | B22: =IFERROR(事前調書!D124,"")&"" | C22: =IFERROR(事前調書!I124,"")&"" | D22: =IFERROR(事前調書!M124,"")&"" | E22: =IFERROR(事前調書!Q124,"")&"" | F22: =事前調書!AF124&"" | CU22: 22
A23: 2 | B23: =IFERROR(事前調書!D125,"")&"" | C23: =IFERROR(事前調書!I125,"")&"" | D23: =IFERROR(事前調書!M125,"")&"" | E23: =IFERROR(事前調書!Q125,"")&"" | F23: =事前調書!AF125&"" | CU23: 23
A24: 3 | B24: =IFERROR(事前調書!D126,"")&"" | C24: =IFERROR(事前調書!I126,"")&"" | D24: =IFERROR(事前調書!M126,"")&"" | E24: =IFERROR(事前調書!Q126,"")&"" | F24: =事前調書!AF126&"" | CU24: 24
A25: 4 | B25: =IFERROR(事前調書!D127,"")&"" | C25: =IFERROR(事前調書!I127,"")&"" | D25: =IFERROR(事前調書!M127,"")&"" | E25: =IFERROR(事前調書!Q127,"")&"" | F25: =事前調書!AF127&"" | CU25: 25
A26: 5 | B26: =IFERROR(事前調書!D128,"")&"" | C26: =IFERROR(事前調書!I128,"")&"" | D26: =IFERROR(事前調書!M128,"")&"" | E26: =IFERROR(事前調書!Q128,"")&"" | F26: =事前調書!AF128&"" | CU26: 26
A27: 6 | B27: =IFERROR(事前調書!D129,"")&"" | C27: =IFERROR(事前調書!I129,"")&"" | D27: =IFERROR(事前調書!M129,"")&"" | E27: =IFERROR(事前調書!Q129,"")&"" | F27: =事前調書!AF129&"" | CU27: 27
A28: 7 | B28: =IFERROR(事前調書!D130,"")&"" | C28: =IFERROR(事前調書!I130,"")&"" | D28: =IFERROR(事前調書!M130,"")&"" | E28: =IFERROR(事前調書!Q130,"")&"" | F28: =事前調書!AF130&"" | CU28: 28
A29: 8 | B29: =IFERROR(事前調書!D131,"")&"" | C29: =IFERROR(事前調書!I131,"")&"" | D29: =IFERROR(事前調書!M131,"")&"" | E29: =IFERROR(事前調書!Q131,"")&"" | F29: =事前調書!AF131&"" | CU29: 29
A30: 9 | B30: =IFERROR(事前調書!D132,"")&"" | C30: =IFERROR(事前調書!I132,"")&"" | D30: =IFERROR(事前調書!M132,"")&"" | E30: =IFERROR(事前調書!Q132,"")&"" | F30: =事前調書!AF132&"" | CU30: 30
A31: 10 | B31: =IFERROR(事前調書!D133,"")&"" | C31: =IFERROR(事前調書!I133,"")&"" | D31: =IFERROR(事前調書!M133,"")&"" | E31: =IFERROR(事前調書!Q133,"")&"" | F31: =事前調書!AF133&"" | CU31: 31
A32: 11 | B32: =IFERROR(事前調書!D134,"")&"" | C32: =IFERROR(事前調書!I134,"")&"" | D32: =IFERROR(事前調書!M134,"")&"" | E32: =IFERROR(事前調書!Q134,"")&"" | F32: =事前調書!AF134&"" | CU32: 32
A33: 12 | B33: =IFERROR(事前調書!D135,"")&"" | C33: =IFERROR(事前調書!I135,"")&"" | D33: =IFERROR(事前調書!M135,"")&"" | E33: =IFERROR(事前調書!Q135,"")&"" | F33: =事前調書!AF135&"" | CU33: 33
... A41: 20 | B41: =IFERROR(事前調書!D143,"")&"" | C41: =IFERROR(事前調書!I143,"")&"" | D41: =IFERROR(事前調書!M143,"")&"" | E41: =IFERROR(事前調書!Q143,"")&"" | F41: =事前調書!AF143&"" | CU41: 41
A43: A | B43: 利用人数 | G43: =G17 -> 0 | H43: =H17 -> 0 | I43: =I17 -> 0 | J43: =J17 -> 0 | K43: =K17 -> 0 | L43: =L17 -> 0 | M43: =M17 -> 0 | N43: =N17 -> 0 | ... CT43: =CT17 -> 0
A45: B | B45: 各日の利用人数が利用定員の150％を超過した日 | G45: =IF(G17>$G$8*1.5,"〇","-") -> - | H45: =IF(H17>$G$8*1.5,"〇","-") -> - | I45: =IF(I17>$G$8*1.5,"〇","-") -> - | J45: =IF(J17>$G$8*1.5,"〇","-") -> - | K45: =IF(K17>$G$8*1.5,"〇","-") -> - | L45: =IF(L17>$G$8*1.5,"〇","-") -> - | M45: =IF(M17>$G$8*1.5,"〇","-") -> - | N45: =IF(N17>$G$8*1.5,"〇","-") -> - | ... CT45: =IF(CT17>$G$8*1.5,"〇","-") -> -
A47: C | B47: 必要基準人員数 （各日において必要な児童指導員、保育士等の数） | G47: =IF(G17=0,"",IF(G17<11,2,IF(G17<16,3,IF(G17<21,4,IF(G17<26,5))))) | H47: =IF(H17=0,"",IF(H17<11,2,IF(H17<16,3,IF(H17<21,4,IF(H17<26,5))))) | I47: =IF(I17=0,"",IF(I17<11,2,IF(I17<16,3,IF(I17<21,4,IF(I17<26,5))))) | J47: =IF(J17=0,"",IF(J17<11,2,IF(J17<16,3,IF(J17<21,4,IF(J17<26,5))))) | K47: =IF(K17=0,"",IF(K17<11,2,IF(K17<16,3,IF(K17<21,4,IF(K17<26,5))))) | L47: =IF(L17=0,"",IF(L17<11,2,IF(L17<16,3,IF(L17<21,4,IF(L17<26,5))))) | M47: =IF(M17=0,"",IF(M17<11,2,IF(M17<16,3,IF(M17<21,4,IF(M17<26,5))))) | N47: =IF(N17=0,"",IF(N17<11,2,IF(N17<16,3,IF(N17<21,4,IF(N17<26,5))))) | ... CT47: =IF(CT17=0,"",IF(CT17<11,2,IF(CT17<16,3,IF(CT17<21,4,IF(CT17<26,5)))))
A49: D | B49: 配置職員数 | F49: 以下の合計値→ | G49: =SUM(G50:G54) -> 0 | H49: =SUM(H50:H54) -> 0 | I49: =SUM(I50:I54) -> 0 | J49: =SUM(J50:J54) -> 0 | K49: =SUM(K50:K54) -> 0 | L49: =SUM(L50:L54) -> 0 | M49: =SUM(M50:M54) -> 0 | N49: =SUM(N50:N54) -> 0 | ... CT49: =SUM(CT50:CT54) -> 0
B50: 内 訳 | C50: 「基準」人員の実人数 | G50: =IFERROR(COUNTIFS($D$22:$D$41,"基準",G22:G41,">=1"),"") -> 0 | H50: =IFERROR(COUNTIFS($D$22:$D$41,"基準",H22:H41,">=1"),"") -> 0 | I50: =IFERROR(COUNTIFS($D$22:$D$41,"基準",I22:I41,">=1"),"") -> 0 | J50: =IFERROR(COUNTIFS($D$22:$D$41,"基準",J22:J41,">=1"),"") -> 0 | K50: =IFERROR(COUNTIFS($D$22:$D$41,"基準",K22:K41,">=1"),"") -> 0 | L50: =IFERROR(COUNTIFS($D$22:$D$41,"基準",L22:L41,">=1"),"") -> 0 | M50: =IFERROR(COUNTIFS($D$22:$D$41,"基準",M22:M41,">=1"),"") -> 0 | N50: =IFERROR(COUNTIFS($D$22:$D$41,"基準",N22:N41,">=1"),"") -> 0 | ... CT50: =IFERROR(COUNTIFS($D$22:$D$41,"基準",CT22:CT41,">=1"),"") -> 0
C51: （「利用人数」に対し、基準人員が不足している場合×） | G51: =IFERROR(IF(G50-G47>=0,"","×"),"") | H51: =IFERROR(IF(H50-H47>=0,"","×"),"") | I51: =IFERROR(IF(I50-I47>=0,"","×"),"") | J51: =IFERROR(IF(J50-J47>=0,"","×"),"") | K51: =IFERROR(IF(K50-K47>=0,"","×"),"") | L51: =IFERROR(IF(L50-L47>=0,"","×"),"") | M51: =IFERROR(IF(M50-M47>=0,"","×"),"") | N51: =IFERROR(IF(N50-N47>=0,"","×"),"") | ... CT51: =IFERROR(IF(CT50-CT47>=0,"","×"),"")
C52: 「児童指導員等加配加算」要員の実人数 | G52: =COUNTIFS($D$22:$D$41,"児指員加配",G22:G41,">=1") -> 0 | H52: =COUNTIFS($D$22:$D$41,"児指員加配",H22:H41,">=1") -> 0 | I52: =COUNTIFS($D$22:$D$41,"児指員加配",I22:I41,">=1") -> 0 | J52: =COUNTIFS($D$22:$D$41,"児指員加配",J22:J41,">=1") -> 0 | K52: =COUNTIFS($D$22:$D$41,"児指員加配",K22:K41,">=1") -> 0 | L52: =COUNTIFS($D$22:$D$41,"児指員加配",L22:L41,">=1") -> 0 | M52: =COUNTIFS($D$22:$D$41,"児指員加配",M22:M41,">=1") -> 0 | N52: =COUNTIFS($D$22:$D$41,"児指員加配",N22:N41,">=1") -> 0 | ... CT52: =COUNTIFS($D$22:$D$41,"児指員加配",CT22:CT41,">=1") -> 0
C53: 「専門的支援体制加算」要員の実人数 | G53: =COUNTIFS($D$22:$D$41,"専門体制加配",G22:G41,">=1") -> 0 | H53: =COUNTIFS($D$22:$D$41,"専門体制加配",H22:H41,">=1") -> 0 | I53: =COUNTIFS($D$22:$D$41,"専門体制加配",I22:I41,">=1") -> 0 | J53: =COUNTIFS($D$22:$D$41,"専門体制加配",J22:J41,">=1") -> 0 | K53: =COUNTIFS($D$22:$D$41,"専門体制加配",K22:K41,">=1") -> 0 | L53: =COUNTIFS($D$22:$D$41,"専門体制加配",L22:L41,">=1") -> 0 | M53: =COUNTIFS($D$22:$D$41,"専門体制加配",M22:M41,">=1") -> 0 | N53: =COUNTIFS($D$22:$D$41,"専門体制加配",N22:N41,">=1") -> 0 | ... CT53: =COUNTIFS($D$22:$D$41,"専門体制加配",CT22:CT41,">=1") -> 0
C54: 「その他加配加算」要員の実人数 | G54: =COUNTIFS($D$22:$D$41,"その他加配",G22:G41,">=1") -> 0 | H54: =COUNTIFS($D$22:$D$41,"その他加配",H22:H41,">=1") -> 0 | I54: =COUNTIFS($D$22:$D$41,"その他加配",I22:I41,">=1") -> 0 | J54: =COUNTIFS($D$22:$D$41,"その他加配",J22:J41,">=1") -> 0 | K54: =COUNTIFS($D$22:$D$41,"その他加配",K22:K41,">=1") -> 0 | L54: =COUNTIFS($D$22:$D$41,"その他加配",L22:L41,">=1") -> 0 | M54: =COUNTIFS($D$22:$D$41,"その他加配",M22:M41,">=1") -> 0 | N54: =COUNTIFS($D$22:$D$41,"その他加配",N22:N41,">=1") -> 0 | ... CT54: =COUNTIFS($D$22:$D$41,"その他加配",CT22:CT41,">=1") -> 0
A56: E | B56: D－C （+の値であれば人員配置基準に対して加配状態となる） | G56: =IFERROR(G49-G47,"") | H56: =IFERROR(H49-H47,"") | I56: =IFERROR(I49-I47,"") | J56: =IFERROR(J49-J47,"") | K56: =IFERROR(K49-K47,"") | L56: =IFERROR(L49-L47,"") | M56: =IFERROR(M49-M47,"") | N56: =IFERROR(N49-N47,"") | ... CT56: =IFERROR(CT49-CT47,"")
B57: ※Dの内訳として基準人員として数えることが出来ない職員が含まれることもあるため職種を要確認。

Sheet 事前調書（記載例)
C2: 障害福祉サービス等に係る運営指導事前調書（障害児通所支援事業用）
C5: 事業所名 | N5: 中部広域市町村圏事務組合
C8: 実施場所 | N8: 沖縄市海邦２丁目９番３５号
N9: ※ 複数の事業所がある場合、まとめて１箇所でやりますので、実際に検査を実施する場所の住所を記載してください。
C11: 運営指導予定日 | N11: 45658
C14: 実施サービス | N14: 児童発達支援、放課後等デイサービス
C17: 担当者名 | N17: 海邦 太郎 | AC17: 連絡先 | AM17: 098-***-****
C19: ※この調書は、事業所単位（事業所番号ごと）で作成すること
C20: ※オレンジ背景セルに必要事項を入力すること。
C24: 事前調書の作成について
C25: 児童発達支援、放課後等デイサービスの事業を実施している場合はこのシート（事前調書）のほか、「勤務実績等確認表」も作成してください。 なお、作成する順番に関しては、データの都合上、「事前調書」→「勤務実績等確認表」の順に作成をお願いします。
C32: １ 開設者・事業所の概要
AL33: 令和７年1月1日現在
D34: 法人概要 | E34: 法人等の種別 | M34: 株式会社 | W34: 法人等の名称 | AE34: 中部広域
E35: 法人本部の所在地 | M35: 沖縄市海邦２丁目９番３５号
E36: 代表者名 | M36: 海邦 一郎 | W36: 代表者の住所 | AE36: 沖縄市海邦２丁目９番３５号
E37: 法令順守責任者名 | M37: 海邦 一郎 | W37: 業務管理体制届出※ | AE37: 未 ・ 済 （平成○○年×月△日付）
D38: 事業所概要 | E38: 事業所名称 | M38: 中部広域市町村圏事務組合
E39: 事業所住所 | M39: 〒 | N39: 904-2162 | X39: 住所： | Z39: 沖縄市海邦２丁目９番３５号
E40: 事業所番号
E41: 指定年月日 | M41: 令和 | O41: 2 | Q41: 年 | R41: 1 | T41: 月 | U41: 1 | W41: 日
E42: サービス名 | M42: 児童発達支援、放課後等デイサービス
E43: 利用定員数 | M43: 定員 | O43: 10 | Q43: 名
E44: 管理者名 | M44: 海邦 太郎
E45: 児童発達支援管理責任者 | M45: 海邦 太郎
E46: 主たる対象者 | M46: 特定無し | R46: ※特定有りの場合は障害種別を右欄に記載
E47: 協力医療機関 | M47: 中部広域市町村圏事務組合 病院
E48: 法人で他に実施している 指定障害福祉サービス
D50: ※ | E50: 業務管理体制届出欄には、業務管理体制の届出書を指定権者（国、県、中核市）に提出しているかを記載してください（全事業者届出必須です）。
C55: ２ 利用者の状況
C56: (1)月別利用者数
G57: 特定旧法 受給者等 | K57: 不明 | O57: 区分なし | S57: 区分１ | W57: 区分２ | AA57: 区分３ | AE57: 区分４ | AI57: 区分５ | AM57: 区分６ | AQ57: 計
D59: 前年度 | E59: ４月 | J59: 名 | N59: 名 | R59: 名 | T59: 5 | V59: 名 | X59: 3 | Z59: 名 | AB59: 2 | AD59: 名 | AH59: 名 | AL59: 名 | AP59: 名 | AR59: =SUM(H59,L59,P59,T59,X59,AB59,AF59,AJ59,AN59) -> 10 | AT59: 名
E60: ５月 | J60: 名 | N60: 名 | R60: 名 | T60: 5 | V60: 名 | X60: 3 | Z60: 名 | AB60: 2 | AD60: 名 | AH60: 名 | AL60: 名 | AP60: 名 | AR60: =SUM(H60,L60,P60,T60,X60,AB60,AF60,AJ60,AN60) -> 10 | AT60: 名
E61: ６月 | J61: 名 | N61: 名 | R61: 名 | T61: 5 | V61: 名 | X61: 3 | Z61: 名 | AB61: 2 | AD61: 名 | AH61: 名 | AL61: 名 | AP61: 名 | AR61: =SUM(H61,L61,P61,T61,X61,AB61,AF61,AJ61,AN61) -> 10 | AT61: 名
E62: ７月 | J62: 名 | N62: 名 | R62: 名 | T62: 5 | V62: 名 | X62: 3 | Z62: 名 | AB62: 2 | AD62: 名 | AH62: 名 | AL62: 名 | AP62: 名 | AR62: =SUM(H62,L62,P62,T62,X62,AB62,AF62,AJ62,AN62) -> 10 | AT62: 名
E63: ８月 | J63: 名 | N63: 名 | R63: 名 | T63: 5 | V63: 名 | X63: 3 | Z63: 名 | AB63: 2 | AD63: 名 | AH63: 名 | AL63: 名 | AP63: 名 | AR63: =SUM(H63,L63,P63,T63,X63,AB63,AF63,AJ63,AN63) -> 10 | AT63: 名
E64: ９月 | J64: 名 | N64: 名 | R64: 名 | T64: 5 | V64: 名 | X64: 3 | Z64: 名 | AB64: 2 | AD64: 名 | AH64: 名 | AL64: 名 | AP64: 名 | AR64: =SUM(H64,L64,P64,T64,X64,AB64,AF64,AJ64,AN64) -> 10 | AT64: 名
E65: １０月 | J65: 名 | N65: 名 | R65: 名 | T65: 5 | V65: 名 | X65: 3 | Z65: 名 | AB65: 2 | AD65: 名 | AH65: 名 | AL65: 名 | AP65: 名 | AR65: =SUM(H65,L65,P65,T65,X65,AB65,AF65,AJ65,AN65) -> 10 | AT65: 名
E66: １１月 | J66: 名 | N66: 名 | R66: 名 | T66: 5 | V66: 名 | X66: 3 | Z66: 名 | AB66: 2 | AD66: 名 | AH66: 名 | AL66: 名 | AP66: 名 | AR66: =SUM(H66,L66,P66,T66,X66,AB66,AF66,AJ66,AN66) -> 10 | AT66: 名
...

Sheet 勤務実績等確認表 (記載例)
A1: 勤務実績等確認表（運営指導実施前月までの直近3カ月分） ※児童発達支援、放課後等デイサービス用
A2: 事業所名 ：
A4: 〇 | B4: 運営指導実施年月日 | C4: 45689 | H4: 45675
A6: 〇 | B6: １週間に当該事業所における常勤職員が勤務すべき時間 | G6: 40 | I6: 時間
A8: 〇 | B8: 利用定員 | G8: 10 | I8: 名
A11: 〇サービス種別ごとの利用児童数 | G11: ↓ | H11: 45567
B12: 利用児童数 | C12: サービス種別 | E12: サービス提供時間 | G12: 45566 | H12: 45567 | I12: 45568 | J12: 45569 | K12: 45570 | L12: 45571 | M12: 45572 | N12: 45573 | O12: 45574 | P12: 45575 | Q12: 45576 | R12: 45577 | S12: 45578 | T12: 45579 | U12: 45580 | V12: 45581 | W12: 45582 | X12: 45583 | Y12: 45584 | Z12: 45585 | AA12: 45586 | AB12: 45587 | AC12: 45588 | AD12: 45589 | AE12: 45590 | AF12: 45591 | AG12: 45592 | AH12: 45593 | AI12: 45594 | AJ12: 45595 | AK12: 45596 | AL12: 45597 | AM12: 45598 | AN12: 45599 | AO12: 45600 | AP12: 45601 | AQ12: 45602 | AR12: 45603 | AS12: 45604 | AT12: 45605 | AU12: 45606 | AV12: 45607 | AW12: 45608 | AX12: 45609 | AY12: 45610 | AZ12: 45611 | BA12: 45612 | BB12: 45613 | BC12: 45614 | BD12: 45615 | BE12: 45616 | BF12: 45617 | BG12: 45618 | BH12: 45619 | BI12: 45620 | BJ12: 45621 | BK12: 45622 | BL12: 45623 | BM12: 45624 | BN12: 45625 | BO12: 45626 | BP12: 45627 | BQ12: 45628 | BR12: 45629 | BS12: 45630 | BT12: 45631 | BU12: 45632 | BV12: 45633 | BW12: 45634 | BX12: 45635 | BY12: 45636 | BZ12: 45637 | CA12: 45638 | CB12: 45639 | CC12: 45640 | CD12: 45641 | CE12: 45642 | CF12: 45643 | CG12: 45644 | CH12: 45645 | CI12: 45646 | CJ12: 45647 | CK12: 45648 | CL12: 45649 | CM12: 45650 | CN12: 45651 | CO12: 45652 | CP12: 45653 | CQ12: 45654 | CR12: 45655 | CS12: 45656 | CT12: 45657
E13: 開始 | F13: 終了 | G13: 火 | H13: 水 | I13: 木 | J13: 金 | K13: 土 | L13: 日 | M13: 月 | N13: 火 | O13: 水 | P13: 木 | Q13: 金 | R13: 土 | S13: 日 | T13: 月 | U13: 火 | V13: 水 | W13: 木 | X13: 金 | Y13: 土 | Z13: 日 | AA13: 月 | AB13: 火 | AC13: 水 | AD13: 木 | AE13: 金 | AF13: 土 | AG13: 日 | AH13: 月 | AI13: 火 | AJ13: 水 | AK13: 木 | AL13: 金 | AM13: 土 | AN13: 日 | AO13: 月 | AP13: 火 | AQ13: 水 | AR13: 木 | AS13: 金 | AT13: 土 | AU13: 日 | AV13: 月 | AW13: 火 | AX13: 水 | AY13: 木 | AZ13: 金 | BA13: 土 | BB13: 日 | BC13: 月 | BD13: 火 | BE13: 水 | BF13: 木 | BG13: 金 | BH13: 土 | BI13: 日 | BJ13: 月 | BK13: 火 | BL13: 水 | BM13: 木 | BN13: 金 | BO13: 土 | BP13: 日 | BQ13: 月 | BR13: 火 | BS13: 水 | BT13: 木 | BU13: 金 | BV13: 土 | BW13: 日 | BX13: 月 | BY13: 火 | BZ13: 水 | CA13: 木 | CB13: 金 | CC13: 土 | CD13: 日 | CE13: 月 | CF13: 火 | CG13: 水 | CH13: 木 | CI13: 金 | CJ13: 土 | CK13: 日 | CL13: 月 | CM13: 火 | CN13: 水 | CO13: 木 | CP13: 金 | CQ13: 土 | CR13: 日 | CS13: 月 | CT13: 火
G14: 16 | H14: 15 | I14: 10 | J14: 5 | M14: 10 | N14: 10 | O14: 10 | P14: 10 | Q14: 10 | T14: 10 | U14: 10 | V14: 10 | W14: 10 | X14: 10 | AA14: 10 | AB14: 10 | AC14: 10 | AD14: 10 | AE14: 10 | AH14: 10 | AI14: 10 | AJ14: 10 | AK14: 10 | AL14: 10 | AO14: 10 | AP14: 10 | AQ14: 10 | AR14: 10 | AS14: 10 | AV14: 10 | AW14: 10 | AX14: 10 | AY14: 10 | AZ14: 10 | BC14: 10 | BD14: 10 | BE14: 10 | BF14: 10 | BG14: 10 | BJ14: 10 | BK14: 10 | BL14: 10 | BM14: 10 | BN14: 10 | BQ14: 10 | BR14: 10 | BS14: 10 | BT14: 10 | BU14: 10 | BX14: 10 | BY14: 10 | BZ14: 10 | CA14: 10 | CB14: 10 | CE14: 10 | CF14: 10 | CG14: 10 | CH14: 10 | CI14: 10 | CL14: 10 | CM14: 10 | CN14: 10 | CO14: 10 | CP14: 10 | CS14: 10 | CT14: 10
C17: 合 計 | G17: 16 | H17: 15 | I17: 10 | J17: 5 | K17: 0 | L17: 0 | M17: 10 | N17: 10 | O17: 10 | P17: 10 | Q17: 10 | R17: 0 | S17: 0 | T17: 10 | U17: 10 | V17: 10 | W17: 10 | X17: 10 | Y17: 0 | Z17: 0 | AA17: 10 | AB17: 10 | AC17: 10 | AD17: 10 | AE17: 10 | AF17: 0 | AG17: 0 | AH17: 10 | AI17: 10 | AJ17: 10 | AK17: 10 | AL17: 10 | AM17: 0 | AN17: 0 | AO17: 10 | AP17: 10 | AQ17: 10 | AR17: 10 | AS17: 10 | AT17: 0 | AU17: 0 | AV17: 10 | AW17: 10 | AX17: 10 | AY17: 10 | AZ17: 10 | BA17: 0 | BB17: 0 | BC17: 10 | BD17: 10 | BE17: 10 | BF17: 10 | BG17: 10 | BH17: 0 | BI17: 0 | BJ17: 10 | BK17: 10 | BL17: 10 | BM17: 10 | BN17: 10 | BO17: 0 | BP17: 0 | BQ17: 10 | BR17: 10 | BS17: 10 | BT17: 10 | BU17: 10 | BV17: 0 | BW17: 0 | BX17: 10 | BY17: 10 | BZ17: 10 | CA17: 10 | CB17: 10 | CC17: 0 | CD17: 0 | CE17: 10 | CF17: 10 | CG17: 10 | CH17: 10 | CI17: 10 | CJ17: 0 | CK17: 0 | CL17: 10 | CM17: 10 | CN17: 10 | CO17: 10 | CP17: 10 | CQ17: 0 | CR17: 0 | CS17: 10 | CT17: 10
A19: 〇従業者の勤務実績
B20: 職種 | D20: 基準 加配 | E20: 氏名 | F20: 常 勤 | G20: 45566 | H20: 45567 | I20: 45568 | J20: 45569 | K20: 45570 | L20: 45571 | M20: 45572 | N20: 45573 | O20: 45574 | P20: 45575 | Q20: 45576 | R20: 45577 | S20: 45578 | T20: 45579 | U20: 45580 | V20: 45581 | W20: 45582 | X20: 45583 | Y20: 45584 | Z20: 45585 | AA20: 45586 | AB20: 45587 | AC20: 45588 | AD20: 45589 | AE20: 45590 | AF20: 45591 | AG20: 45592 | AH20: 45593 | AI20: 45594 | AJ20: 45595 | AK20: 45596 | AL20: 45597 | AM20: 45598 | AN20: 45599 | AO20: 45600 | AP20: 45601 | AQ20: 45602 | AR20: 45603 | AS20: 45604 | AT20: 45605 | AU20: 45606 | AV20: 45607 | AW20: 45608 | AX20: 45609 | AY20: 45610 | AZ20: 45611 | BA20: 45612 | BB20: 45613 | BC20: 45614 | BD20: 45615 | BE20: 45616 | BF20: 45617 | BG20: 45618 | BH20: 45619 | BI20: 45620 | BJ20: 45621 | BK20: 45622 | BL20: 45623 | BM20: 45624 | BN20: 45625 | BO20: 45626 | BP20: 45627 | BQ20: 45628 | BR20: 45629 | BS20: 45630 | BT20: 45631 | BU20: 45632 | BV20: 45633 | BW20: 45634 | BX20: 45635 | BY20: 45636 | BZ20: 45637 | CA20: 45638 | CB20: 45639 | CC20: 45640 | CD20: 45641 | CE20: 45642 | CF20: 45643 | CG20: 45644 | CH20: 45645 | CI20: 45646 | CJ20: 45647 | CK20: 45648 | CL20: 45649 | CM20: 45650 | CN20: 45651 | CO20: 45652 | CP20: 45653 | CQ20: 45654 | CR20: 45655 | CS20: 45656 | CT20: 45657
B21: 職種1 | C21: 職種2 | F21: 非常勤 | G21: 火 | H21: 水 | I21: 木 | J21: 金 | K21: 土 | L21: 日 | M21: 月 | N21: 火 | O21: 水 | P21: 木 | Q21: 金 | R21: 土 | S21: 日 | T21: 月 | U21: 火 | V21: 水 | W21: 木 | X21: 金 | Y21: 土 | Z21: 日 | AA21: 月 | AB21: 火 | AC21: 水 | AD21: 木 | AE21: 金 | AF21: 土 | AG21: 日 | AH21: 月 | AI21: 火 | AJ21: 水 | AK21: 木 | AL21: 金 | AM21: 土 | AN21: 日 | AO21: 月 | AP21: 火 | AQ21: 水 | AR21: 木 | AS21: 金 | AT21: 土 | AU21: 日 | AV21: 月 | AW21: 火 | AX21: 水 | AY21: 木 | AZ21: 金 | BA21: 土 | BB21: 日 | BC21: 月 | BD21: 火 | BE21: 水 | BF21: 木 | BG21: 金 | BH21: 土 | BI21: 日 | BJ21: 月 | BK21: 火 | BL21: 水 | BM21: 木 | BN21: 金 | BO21: 土 | BP21: 日 | BQ21: 月 | BR21: 火 | BS21: 水 | BT21: 木 | BU21: 金 | BV21: 土 | BW21: 日 | BX21: 月 | BY21: 火 | BZ21: 水 | CA21: 木 | CB21: 金 | CC21: 土 | CD21: 日 | CE21: 月 | CF21: 火 | CG21: 水 | CH21: 木 | CI21: 金 | CJ21: 土 | CK21: 日 | CL21: 月 | CM21: 火 | CN21: 水 | CO21: 木 | CP21: 金 | CQ21: 土 | CR21: 日 | CS21: 月 | CT21: 火
A22: 1 | B22: 児童発達支援管理責任者 | C22: 管理者 | E22: 海邦 太郎 | F22: 常勤 | G22: 8 | H22: 8 | I22: 8 | J22: 8 | M22: 8 | N22: 8 | O22: 8 | P22: 8 | Q22: 8 | T22: 8 | U22: 8 | V22: 8 | W22: 8 | X22: 8 | AA22: 8 | AB22: 8 | AC22: 8 | AD22: 8 | AE22: 8 | AH22: 8 | AI22: 8 | AJ22: 8 | AK22: 8 | AL22: 8 | AO22: 8 | AP22: 8 | AQ22: 8 | AR22: 8 | AS22: 8 | AV22: 8 | AW22: 8 | AX22: 8 | AY22: 8 | AZ22: 8 | BC22: 8 | BD22: 8 | BE22: 8 | BF22: 8 | BG22: 8 | BJ22: 8 | BK22: 8 | BL22: 8 | BM22: 8 | BN22: 8 | BQ22: 8 | BR22: 8 | BS22: 8 | BT22: 8 | BU22: 8 | BX22: 8 | BY22: 8 | BZ22: 8 | CA22: 8 | CB22: 8 | CE22: 8 | CF22: 8 | CG22: 8 | CH22: 8 | CI22: 8 | CL22: 8 | CM22: 8 | CN22: 8 | CO22: 8 | CP22: 8 | CS22: 8 | CT22: 8
A23: 2 | B23: 保育士 | D23: 基準 | E23: A | F23: 常勤 | G23: 8 | H23: 8 | I23: 8 | J23: 8 | M23: 8 | N23: 8 | O23: 8 | P23: 8 | Q23: 8 | T23: 8 | U23: 8 | V23: 8 | W23: 8 | X23: 8 | AA23: 8 | AB23: 8 | AC23: 8 | AD23: 8 | AE23: 8 | AH23: 8 | AI23: 8 | AJ23: 8 | AK23: 8 | AL23: 8 | AO23: 8 | AP23: 8 | AQ23: 8 | AR23: 8 | AS23: 8 | AV23: 8 | AW23: 8 | AX23: 8 | AY23: 8 | AZ23: 8 | BC23: 8 | BD23: 8 | BE23: 8 | BF23: 8 | BG23: 8 | BJ23: 8 | BK23: 8 | BL23: 8 | BM23: 8 | BN23: 8 | BQ23: 8 | BR23: 8 | BS23: 8 | BT23: 8 | BU23: 8 | BX23: 8 | BY23: 8 | BZ23: 8 | CA23: 8 | CB23: 8 | CE23: 8 | CF23: 8 | CG23: 8 | CH23: 8 | CI23: 8 | CL23: 8 | CM23: 8 | CN23: 8 | CO23: 8 | CP23: 8 | CS23: 8 | CT23: 8
A24: 3 | B24: 児童指導員 | D24: 基準 | E24: B | F24: 常勤 | G24: 8 | H24: 8 | I24: 8 | J24: 8 | M24: 8 | N24: 8 | O24: 8 | P24: 8 | Q24: 8 | T24: 8 | U24: 8 | V24: 8 | W24: 8 | X24: 8 | AA24: 8 | AB24: 8 | AC24: 8 | AD24: 8 | AE24: 8 | AH24: 8 | AI24: 8 | AJ24: 8 | AK24: 8 | AL24: 8 | AO24: 8 | AP24: 8 | AQ24: 8 | AR24: 8 | AS24: 8 | AV24: 8 | AW24: 8 | AX24: 8 | AY24: 8 | AZ24: 8 | BC24: 8 | BD24: 8 | BE24: 8 | BF24: 8 | BG24: 8 | BJ24: 8 | BK24: 8 | BL24: 8 | BM24: 8 | BN24: 8 | BQ24: 8 | BR24: 8 | BS24: 8 | BT24: 8 | BU24: 8 | BX24: 8 | BY24: 8 | BZ24: 8 | CA24: 8 | CB24: 8 | CE24: 8 | CF24: 8 | CG24: 8 | CH24: 8 | CI24: 8 | CL24: 8 | CM24: 8 | CN24: 8 | CO24: 8 | CP24: 8 | CS24: 8 | CT24: 8
A25: 4 | B25: 児童指導員 | D25: 基準 | E25: C | F25: 常勤 | G25: 8 | H25: 8 | I25: 8 | J25: 8 | M25: 8 | N25: 8 | O25: 8 | P25: 8 | Q25: 8 | T25: 8 | U25: 8 | V25: 8 | W25: 8 | X25: 8 | AA25: 8 | AB25: 8 | AC25: 8 | AD25: 8 | AE25: 8 | AH25: 8 | AI25: 8 | AJ25: 8 | AK25: 8 | AL25: 8 | AO25: 8 | AP25: 8 | AQ25: 8 | AR25: 8 | AS25: 8 | AV25: 8 | AW25: 8 | AX25: 8 | AY25: 8 | AZ25: 8 | BC25: 8 | BD25: 8 | BE25: 8 | BF25: 8 | BG25: 8 | BJ25: 8 | BK25: 8 | BL25: 8 | BM25: 8 | BN25: 8 | BQ25: 8 | BR25: 8 | BS25: 8 | BT25: 8 | BU25: 8 | BX25: 8 | BY25: 8 | BZ25: 8 | CA25: 8 | CB25: 8 | CE25: 8 | CF25: 8 | CG25: 8 | CH25: 8 | CI25: 8 | CL25: 8 | CM25: 8 | CN25: 8 | CO25: 8 | CP25: 8 | CS25: 8 | CT25: 8
A26: 5 | B26: 理学療法士 | D26: 専門体制加配 | E26: D | F26: 常勤 | G26: 8 | H26: 8 | I26: 8 | J26: 8 | M26: 8 | N26: 8 | O26: 8 | P26: 8 | Q26: 8 | T26: 8 | U26: 8 | V26: 8 | W26: 8 | X26: 8 | AA26: 8 | AB26: 8 | AC26: 8 | AD26: 8 | AE26: 8 | AH26: 8 | AI26: 8 | AJ26: 8 | AK26: 8 | AL26: 8 | AO26: 8 | AP26: 8 | AQ26: 8 | AR26: 8 | AS26: 8 | AV26: 8 | AW26: 8 | AX26: 8 | AY26: 8 | AZ26: 8 | BC26: 8 | BD26: 8 | BE26: 8 | BF26: 8 | BG26: 8 | BJ26: 8 | BK26: 8 | BL26: 8 | BM26: 8 | BN26: 8 | BQ26: 8 | BR26: 8 | BS26: 8 | BT26: 8 | BU26: 8 | BX26: 8 | BY26: 8 | BZ26: 8 | CA26: 8 | CB26: 8 | CE26: 8 | CF26: 8 | CG26: 8 | CH26: 8 | CI26: 8 | CL26: 8 | CM26: 8 | CN26: 8 | CO26: 8 | CP26: 8 | CS26: 8 | CT26: 8
A27: 6 | B27: 強度行動障害支援者養成研修（基礎研修）修了者 | D27: 児指員加配 | E27: E | F27: 常勤 | G27: 8 | H27: 8 | I27: 8 | J27: 8 | M27: 8 | N27: 8 | O27: 8 | P27: 8 | Q27: 8 | T27: 8 | U27: 8 | V27: 8 | W27: 8 | X27: 8 | AA27: 8 | AB27: 8 | AC27: 8 | AD27: 8 | AE27: 8 | AH27: 8 | AI27: 8 | AJ27: 8 | AK27: 8 | AL27: 8 | AO27: 8 | AP27: 8 | AQ27: 8 | AR27: 8 | AS27: 8 | AV27: 8 | AW27: 8 | AX27: 8 | AY27: 8 | AZ27: 8 | BC27: 8 | BD27: 8 | BE27: 8 | BF27: 8 | BG27: 8 | BJ27: 8 | BK27: 8 | BL27: 8 | BM27: 8 | BN27: 8 | BQ27: 8 | BR27: 8 | BS27: 8 | BT27: 8 | BU27: 8 | BX27: 8 | BY27: 8 | BZ27: 8 | CA27: 8 | CB27: 8 | CE27: 8 | CF27: 8 | CG27: 8 | CH27: 8 | CI27: 8 | CL27: 8 | CM27: 8 | CN27: 8 | CO27: 8 | CP27: 8 | CS27: 8 | CT27: 8
A28: 7
A29: 8
A30: 9
A31: 10
A32: 11
A33: 12
A34: 13
A35: 14
A36: 15
A37: 16
A38: 17
A39: 18
... A41: 20

Sheet 入力ルール
A2: サービス種類 | C2: 職種 | E2: 基準人員 加配人員 の別 | G2: 常勤/非常勤 | I2: 専従/兼務 | K2: 〇/× | M2: サービス 主たる対象者 | O2: 元号
A3: 児童発達支援 | C3: 管理者 | E3: 基準 | G3: 常勤 | I3: 専従 | K3: 〇 | M3: 特定有り | O3: 平成
A4: 児童発達支援（重心型） | C4: 児童発達支援管理責任者 | E4: 児指員加配 | G4: 非常勤 | I4: 兼務 | K4: × | M4: 特定無し | O4: 令和
A5: 放課後等デイサービス | C5: 児童指導員 | E5: 専門体制加配
A6: 放課後等デイサービス（重心型） | C6: 保育士 | E6: その他加配
C7: 理学療法士
C8: 作業療法士
C9: 言語聴覚士
C10: 看護師
C11: 心理担当職員
C12: 視覚障害支援担当職員
C13: 看護職員
C14: 手話通訳士
C15: 手話通訳者
C16: 特別支援学校免許取得者
C17: 栄養士
C18: 調理員
... C21: その他従業員
C22: =IF(事前調書!AY135="","-",事前調書!AY135) -> -
C23: =IF(事前調書!AY136="","-",事前調書!AY136) -> -
C24: =IF(事前調書!AY137="","-",事前調書!AY137) -> -
