Workbook

Sheet 入力前に必ずお読みください
A2: 入力方法について
A3: ● | B3: 「基本情報」のシートから先に入力してください。
A4: ● | B4: 「基本情報」、「勤①」～「勤⑤」について、薄ピンク色（薄オレンジ色）のセルが入力箇所となっています。それ以外のセルは入力不可です。
A5: ● | B5: 住居が複数あり、それぞれで勤怠管理をしている場合は、「勤①」～「勤⑤」のシートに分けて入力ください。

Sheet 基本情報
B2: 勤務時間別シフト | J2: 住居名
B3: 勤務シフト | C3: 勤務開始時間 | E3: 勤務開始終了 | G3: 勤務時間数 | J3: ｼｰﾄ | K3: 住居名 | M3: 開所日
C4: 時 | D4: 分 | E4: 時 | F4: 分 | G4: 時 | H4: 分
B5: 例 | C5: 10 | D5: 30 | E5: 14 | F5: 30 | G5: 4 | H5: 30 | J5: 勤①
B6: A | J6: 勤②
B7: B | J7: 勤③
B8: C | J8: 勤④
B9: D | J9: 勤⑤
B10: E
B11: F
B12: G
B13: H
B14: ※計算式に反映させてはいません。
B17: 運営指導の3カ月前の初日を入力してください。
B19: 例：検査日がR7.2.15の場合、「R6.11.1」と入力してください。
B20: ただし、検査日が歴月で1日～14日に当たる場合は、4カ月前の初日を入力してください。
B22: 事業所において定めた一週間に勤務すべき時間
E23: 時間
B24: ※勤①～勤⑤、集計用の各シートの常勤換算数に使用しています。

Sheet 勤①
E1: 住居名 | F1: =基本情報!K5 -> 0
H2: =MONTH(H4) -> 1 | I2: =MONTH(I4) -> 1 | J2: =MONTH(J4) -> 1 | K2: =MONTH(K4) -> 1 | L2: =MONTH(L4) -> 1 | M2: =MONTH(M4) -> 1 | N2: =MONTH(N4) -> 1 | O2: =MONTH(O4) -> 1 | ... CW2: =MONTH(CW4) -> 4
H3: =DAY(H4) -> 0 | I3: =DAY(I4) -> 1 | J3: =DAY(J4) -> 2 | K3: =DAY(K4) -> 3 | L3: =DAY(L4) -> 4 | M3: =DAY(M4) -> 5 | N3: =DAY(N4) -> 6 | O3: =DAY(O4) -> 7 | ... CW3: =DAY(CW4) -> 2
B4: No | C4: 職種1 | D4: 職種2 ※管理者が他職種を兼務する場合は職種2に管理者を入力 | E4: 氏名 | F4: 勤務形態 | G4: 勤務 シフト | H4: =基本情報!B18 -> 0 | I4: =H4+1 -> 1 | J4: =I4+1 -> 2 | K4: =J4+1 -> 3 | L4: =K4+1 -> 4 | M4: =L4+1 -> 5 | N4: =M4+1 -> 6 | O4: =N4+1 -> 7 | P4: =O4+1 -> 8 | ... CW4: =CV4+1 -> 93
H5: =IFERROR(TEXT(H4,"aaa"),"") -> 土 | I5: =IFERROR(TEXT(I4,"aaa"),"") -> 日 | J5: =IFERROR(TEXT(J4,"aaa"),"") -> 月 | K5: =IFERROR(TEXT(K4,"aaa"),"") -> 火 | L5: =IFERROR(TEXT(L4,"aaa"),"") -> 水 | M5: =IFERROR(TEXT(M4,"aaa"),"") -> 木 | N5: =IFERROR(TEXT(N4,"aaa"),"") -> 金 | O5: =IFERROR(TEXT(O4,"aaa"),"") -> 土 | ... CW5: =IFERROR(TEXT(CW4,"aaa"),"") -> 月
B6: 1
B7: 2
B8: 3
B9: 4
B10: 5
B11: 6
B12: 7
B13: 8
B14: 9
B15: 10
B16: 11
B17: 12
... B55: 50

Sheet 勤②
E1: 住居名 | F1: =基本情報!K6 -> 0
H2: =MONTH(H4) -> 1 | I2: =MONTH(I4) -> 1 | J2: =MONTH(J4) -> 1 | K2: =MONTH(K4) -> 1 | L2: =MONTH(L4) -> 1 | M2: =MONTH(M4) -> 1 | N2: =MONTH(N4) -> 1 | O2: =MONTH(O4) -> 1 | ... CW2: =MONTH(CW4) -> 4
H3: =DAY(H4) -> 0 | I3: =DAY(I4) -> 1 | J3: =DAY(J4) -> 2 | K3: =DAY(K4) -> 3 | L3: =DAY(L4) -> 4 | M3: =DAY(M4) -> 5 | N3: =DAY(N4) -> 6 | O3: =DAY(O4) -> 7 | ... CW3: =DAY(CW4) -> 2
B4: No | C4: 職種1 | D4: 職種2 ※管理者が他職種を兼務する場合は職種2に管理者を入力 | E4: 氏名 | F4: 勤務形態 | G4: 勤務 シフト | H4: =基本情報!B18 -> 0 | I4: =H4+1 -> 1 | J4: =I4+1 -> 2 | K4: =J4+1 -> 3 | L4: =K4+1 -> 4 | M4: =L4+1 -> 5 | N4: =M4+1 -> 6 | O4: =N4+1 -> 7 | P4: =O4+1 -> 8 | ... CW4: =CV4+1 -> 93
H5: =IFERROR(TEXT(H4,"aaa"),"") -> 土 | I5: =IFERROR(TEXT(I4,"aaa"),"") -> 日 | J5: =IFERROR(TEXT(J4,"aaa"),"") -> 月 | K5: =IFERROR(TEXT(K4,"aaa"),"") -> 火 | L5: =IFERROR(TEXT(L4,"aaa"),"") -> 水 | M5: =IFERROR(TEXT(M4,"aaa"),"") -> 木 | N5: =IFERROR(TEXT(N4,"aaa"),"") -> 金 | O5: =IFERROR(TEXT(O4,"aaa"),"") -> 土 | ... CW5: =IFERROR(TEXT(CW4,"aaa"),"") -> 月
B6: 1
B7: 2
B8: 3
B9: 4
B10: 5
B11: 6
B12: 7
B13: 8
B14: 9
B15: 10
B16: 11
B17: 12
... B55: 50

Sheet 勤③
E1: 住居名 | F1: =基本情報!K7 -> 0
H2: =MONTH(H4) -> 1 | I2: =MONTH(I4) -> 1 | J2: =MONTH(J4) -> 1 | K2: =MONTH(K4) -> 1 | L2: =MONTH(L4) -> 1 | M2: =MONTH(M4) -> 1 | N2: =MONTH(N4) -> 1 | O2: =MONTH(O4) -> 1 | ... CW2: =MONTH(CW4) -> 4
H3: =DAY(H4) -> 0 | I3: =DAY(I4) -> 1 | J3: =DAY(J4) -> 2 | K3: =DAY(K4) -> 3 | L3: =DAY(L4) -> 4 | M3: =DAY(M4) -> 5 | N3: =DAY(N4) -> 6 | O3: =DAY(O4) -> 7 | ... CW3: =DAY(CW4) -> 2
B4: No | C4: 職種1 | D4: 職種2 ※管理者が他職種を兼務する場合は職種2に管理者を入力 | E4: 氏名 | F4: 勤務形態 | G4: 勤務 シフト | H4: =基本情報!B18 -> 0 | I4: =H4+1 -> 1 | J4: =I4+1 -> 2 | K4: =J4+1 -> 3 | L4: =K4+1 -> 4 | M4: =L4+1 -> 5 | N4: =M4+1 -> 6 | O4: =N4+1 -> 7 | P4: =O4+1 -> 8 | ... CW4: =CV4+1 -> 93
H5: =IFERROR(TEXT(H4,"aaa"),"") -> 土 | I5: =IFERROR(TEXT(I4,"aaa"),"") -> 日 | J5: =IFERROR(TEXT(J4,"aaa"),"") -> 月 | K5: =IFERROR(TEXT(K4,"aaa"),"") -> 火 | L5: =IFERROR(TEXT(L4,"aaa"),"") -> 水 | M5: =IFERROR(TEXT(M4,"aaa"),"") -> 木 | N5: =IFERROR(TEXT(N4,"aaa"),"") -> 金 | O5: =IFERROR(TEXT(O4,"aaa"),"") -> 土 | ... CW5: =IFERROR(TEXT(CW4,"aaa"),"") -> 月
B6: 1
B7: 2
B8: 3
B9: 4
B10: 5
B11: 6
B12: 7
B13: 8
B14: 9
B15: 10
B16: 11
B17: 12
... B55: 50

Sheet 勤④
E1: 住居名 | F1: =基本情報!K8 -> 0
H2: =MONTH(H4) -> 1 | I2: =MONTH(I4) -> 1 | J2: =MONTH(J4) -> 1 | K2: =MONTH(K4) -> 1 | L2: =MONTH(L4) -> 1 | M2: =MONTH(M4) -> 1 | N2: =MONTH(N4) -> 1 | O2: =MONTH(O4) -> 1 | ... CW2: =MONTH(CW4) -> 4
H3: =DAY(H4) -> 0 | I3: =DAY(I4) -> 1 | J3: =DAY(J4) -> 2 | K3: =DAY(K4) -> 3 | L3: =DAY(L4) -> 4 | M3: =DAY(M4) -> 5 | N3: =DAY(N4) -> 6 | O3: =DAY(O4) -> 7 | ... CW3: =DAY(CW4) -> 2
B4: No | C4: 職種1 | D4: 職種2 ※管理者が他職種を兼務する場合は職種2に管理者を入力 | E4: 氏名 | F4: 勤務形態 | G4: 勤務 シフト | H4: =基本情報!B18 -> 0 | I4: =H4+1 -> 1 | J4: =I4+1 -> 2 | K4: =J4+1 -> 3 | L4: =K4+1 -> 4 | M4: =L4+1 -> 5 | N4: =M4+1 -> 6 | O4: =N4+1 -> 7 | P4: =O4+1 -> 8 | ... CW4: =CV4+1 -> 93
H5: =IFERROR(TEXT(H4,"aaa"),"") -> 土 | I5: =IFERROR(TEXT(I4,"aaa"),"") -> 日 | J5: =IFERROR(TEXT(J4,"aaa"),"") -> 月 | K5: =IFERROR(TEXT(K4,"aaa"),"") -> 火 | L5: =IFERROR(TEXT(L4,"aaa"),"") -> 水 | M5: =IFERROR(TEXT(M4,"aaa"),"") -> 木 | N5: =IFERROR(TEXT(N4,"aaa"),"") -> 金 | O5: =IFERROR(TEXT(O4,"aaa"),"") -> 土 | ... CW5: =IFERROR(TEXT(CW4,"aaa"),"") -> 月
B6: 1
B7: 2
B8: 3
B9: 4
B10: 5
B11: 6
B12: 7
B13: 8
B14: 9
B15: 10
B16: 11
B17: 12
... B55: 50

Sheet 勤⑤
E1: 住居名 | F1: =基本情報!K9 -> 0
H2: =MONTH(H4) -> 1 | I2: =MONTH(I4) -> 1 | J2: =MONTH(J4) -> 1 | K2: =MONTH(K4) -> 1 | L2: =MONTH(L4) -> 1 | M2: =MONTH(M4) -> 1 | N2: =MONTH(N4) -> 1 | O2: =MONTH(O4) -> 1 | ... CW2: =MONTH(CW4) -> 4
H3: =DAY(H4) -> 0 | I3: =DAY(I4) -> 1 | J3: =DAY(J4) -> 2 | K3: =DAY(K4) -> 3 | L3: =DAY(L4) -> 4 | M3: =DAY(M4) -> 5 | N3: =DAY(N4) -> 6 | O3: =DAY(O4) -> 7 | ... CW3: =DAY(CW4) -> 2
B4: No | C4: 職種1 | D4: 職種2 ※管理者が他職種を兼務する場合は職種2に管理者を入力 | E4: 氏名 | F4: 勤務形態 | G4: 勤務 シフト | H4: =基本情報!B18 -> 0 | I4: =H4+1 -> 1 | J4: =I4+1 -> 2 | K4: =J4+1 -> 3 | L4: =K4+1 -> 4 | M4: =L4+1 -> 5 | N4: =M4+1 -> 6 | O4: =N4+1 -> 7 | P4: =O4+1 -> 8 | ... CW4: =CV4+1 -> 93
H5: =IFERROR(TEXT(H4,"aaa"),"") -> 土 | I5: =IFERROR(TEXT(I4,"aaa"),"") -> 日 | J5: =IFERROR(TEXT(J4,"aaa"),"") -> 月 | K5: =IFERROR(TEXT(K4,"aaa"),"") -> 火 | L5: =IFERROR(TEXT(L4,"aaa"),"") -> 水 | M5: =IFERROR(TEXT(M4,"aaa"),"") -> 木 | N5: =IFERROR(TEXT(N4,"aaa"),"") -> 金 | O5: =IFERROR(TEXT(O4,"aaa"),"") -> 土 | ... CW5: =IFERROR(TEXT(CW4,"aaa"),"") -> 月
B6: 1
B7: 2
B8: 3
B9: 4
B10: 5
B11: 6
B12: 7
B13: 8
B14: 9
B15: 10
B16: 11
B17: 12
... B55: 50

Sheet プルダウンマスタ
B4: ※「勤務体制一覧」で使用 | C4: ※「勤務体制一覧」で使用
B5: 職種 | C5: 常勤・非常勤の別
B6: 管理者 | C6: 常勤・専従
B7: サービス管理責任者 | C7: 常勤・兼務(管理者)
B8: 世話人 | C8: 常勤・兼務(管理者以外)
B9: 生活支援員 | C9: 非常勤・専従
B10: 夜間支援従事者 | C10: 非常勤・兼務(管理者以外)
B11: 看護職員
B16: 職種追加は上記に空白セルに入力
